BEGIN:VCALENDAR
VERSION:2.0
PRODID:-//Chloë Allison - ECPv6.15.20//NONSGML v1.0//EN
CALSCALE:GREGORIAN
METHOD:PUBLISH
X-ORIGINAL-URL:https://chloeallisonmezzo.com
X-WR-CALDESC:Events for Chloë Allison
REFRESH-INTERVAL;VALUE=DURATION:PT1H
X-Robots-Tag:noindex
X-PUBLISHED-TTL:PT1H
BEGIN:VTIMEZONE
TZID:Europe/London
BEGIN:DAYLIGHT
TZOFFSETFROM:+0000
TZOFFSETTO:+0100
TZNAME:BST
DTSTART:20170326T010000
END:DAYLIGHT
BEGIN:STANDARD
TZOFFSETFROM:+0100
TZOFFSETTO:+0000
TZNAME:GMT
DTSTART:20171029T010000
END:STANDARD
BEGIN:DAYLIGHT
TZOFFSETFROM:+0000
TZOFFSETTO:+0100
TZNAME:BST
DTSTART:20180325T010000
END:DAYLIGHT
BEGIN:STANDARD
TZOFFSETFROM:+0100
TZOFFSETTO:+0000
TZNAME:GMT
DTSTART:20181028T010000
END:STANDARD
BEGIN:DAYLIGHT
TZOFFSETFROM:+0000
TZOFFSETTO:+0100
TZNAME:BST
DTSTART:20190331T010000
END:DAYLIGHT
BEGIN:STANDARD
TZOFFSETFROM:+0100
TZOFFSETTO:+0000
TZNAME:GMT
DTSTART:20191027T010000
END:STANDARD
BEGIN:DAYLIGHT
TZOFFSETFROM:+0000
TZOFFSETTO:+0100
TZNAME:BST
DTSTART:20200329T010000
END:DAYLIGHT
BEGIN:STANDARD
TZOFFSETFROM:+0100
TZOFFSETTO:+0000
TZNAME:GMT
DTSTART:20201025T010000
END:STANDARD
BEGIN:DAYLIGHT
TZOFFSETFROM:+0000
TZOFFSETTO:+0100
TZNAME:BST
DTSTART:20210328T010000
END:DAYLIGHT
BEGIN:STANDARD
TZOFFSETFROM:+0100
TZOFFSETTO:+0000
TZNAME:GMT
DTSTART:20211031T010000
END:STANDARD
BEGIN:DAYLIGHT
TZOFFSETFROM:+0000
TZOFFSETTO:+0100
TZNAME:BST
DTSTART:20220327T010000
END:DAYLIGHT
BEGIN:STANDARD
TZOFFSETFROM:+0100
TZOFFSETTO:+0000
TZNAME:GMT
DTSTART:20221030T010000
END:STANDARD
END:VTIMEZONE
BEGIN:VEVENT
DTSTART;TZID=Europe/London:20210813T193000
DTEND;TZID=Europe/London:20210813T210000
DTSTAMP:20260423T213754
CREATED:20220404T100749Z
LAST-MODIFIED:20220411T143133Z
UID:1033-1628883000-1628888400@chloeallisonmezzo.com
SUMMARY:'A rose by another name: Juliet and Romeo'
DESCRIPTION:The premier of Marginalia Performance’s new opera-theatre fusion! \nShakespeare meets Bellini: star-crossed lovers as never before.\nMarginalia irreverently combines Shakespeare’s timeless words with Bellini’s intoxicating melodies. \nRomeo and Love have been a pretty dysfunctional team for a long time. Rosaline… that didn’t go so well. Maybe Juliet will finally be the one\, if Love can exercise some self-control and rein in her penchant for chaos. But desire and egotism are dangerous bedfellows: Juliet struggles desperately amid powerful currents of coercion and manipulation. A noble passion to heal age-old rifts? Perhaps not. \nLove – Rebecca Hare\nJuliet – Anna-Luise Wagner\nRomeo – Chloë Allison\nPianist – Luke Fitzgerald \nDirector – Eleanor Burke\nCreator – Chloë Allison \nTickets: £15/£10/£5\nhttps://www.ticketsource.co.uk/marginalia-performance
URL:https://chloeallisonmezzo.com/event/a-rose-by-another-name-juliet-and-romeo/
LOCATION:St Thomas’ Church\, Balham\, Telford Ave\, Streatham Hill\, London\, SW2 4XW
CATEGORIES:Opera
ATTACH;FMTTYPE=image/png:https://chloeallisonmezzo.com/wp-content/uploads/2022/04/A-rose-by-another-name-Juliet-Romeo-Facebook-event-1.png
END:VEVENT
BEGIN:VEVENT
DTSTART;TZID=Europe/London:20210122T130000
DTEND;TZID=Europe/London:20210122T140000
DTSTAMP:20260423T213754
CREATED:20220404T095252Z
LAST-MODIFIED:20220407T134305Z
UID:1030-1611320400-1611324000@chloeallisonmezzo.com
SUMMARY:‘Giving New Voice to a Forgotten Past: Polyphony in Twelfth-Century Paris’
DESCRIPTION:Online lecture as part of the Royal School of Church Music Lunch-time Lecture Series  \nChloë tells the story of late 12th-century singers at Notre Dame de Paris. She explores how unnamed but extremely skilled singers worked together orally to develop completely new and hugely ambitious ways of creating music. She asks how we can access this fluid\, oral music-making through its ‘fossilisation’ in surviving manuscripts and introduces her audience to the kinds of ‘detective’ historical methods needed to explore this music\, which captivated her as an undergraduate and inspired her doctoral research. \n 
URL:https://chloeallisonmezzo.com/event/giving-new-voice-to-a-forgotten-past-polyphony-in-twelfth-century-paris/
LOCATION:Online
CATEGORIES:Lecture
ATTACH;FMTTYPE=image/jpeg:https://chloeallisonmezzo.com/wp-content/uploads/2022/04/lunch-time-lecture-image.jpg
END:VEVENT
BEGIN:VEVENT
DTSTART;TZID=Europe/London:20200811T193000
DTEND;TZID=Europe/London:20200811T210000
DTSTAMP:20260423T213754
CREATED:20220404T172426Z
LAST-MODIFIED:20220407T134352Z
UID:1089-1597174200-1597179600@chloeallisonmezzo.com
SUMMARY:'Fillu' at JAM on the Marsh\, Online Premier
DESCRIPTION:Green Opera’s ‘Fillu’ will be streamed online as part of the JAM on the Marsh Virtual Festival. This newly-devised Lieder-opera tells the story of Eugenie Schumann\, daughter of Clara and Robert\, and her life-long partner\, the Austrian soprano\, Marie Fillunger. It explores their passion and their struggle to be together in the face of familial pressures. \nChloë Allison (Eugenie Schumann)\nAnna-Luise Wagner (Marie Fillunger)\nRichard Gowers (Piano)\nEleanor Burke (Director)
URL:https://chloeallisonmezzo.com/event/fillu-at-jam-on-the-marsh-online-premier/
LOCATION:Online
CATEGORIES:Liederabend,Opera
ATTACH;FMTTYPE=image/jpeg:https://chloeallisonmezzo.com/wp-content/uploads/2020/03/fillu-1.jpg
END:VEVENT
BEGIN:VEVENT
DTSTART;TZID=Europe/London:20200708T200000
DTEND;TZID=Europe/London:20200708T210000
DTSTAMP:20260423T213754
CREATED:20200307T185510Z
LAST-MODIFIED:20220404T172801Z
UID:137-1594238400-1594242000@chloeallisonmezzo.com
SUMMARY:Fillu at the SouthWestFest
DESCRIPTION:Green Opera’s ‘Fillu’ at the SouthWestFest\nOnline Live Stream from St Saviour’s Pimlico \nIn the UK\, live concerts still feel a long way off\, but this does mean that we are live streaming our LiederAbend ‘Fillu’ so anyone can watch it from wherever they are. \nLink to the live stream coming soon! \nChloë Allison (Eugenie Schumann)\nAnna-Luise Wagner (Marie Fillunger)\nRichard Gowers (Piano)\nEleanor Burke (Director) \nYou can find out more about the story of ‘Fillu’ here.
URL:https://chloeallisonmezzo.com/event/fillu-at-southwestfest/
LOCATION:Online
CATEGORIES:Liederabend,Opera
ATTACH;FMTTYPE=image/jpeg:https://chloeallisonmezzo.com/wp-content/uploads/2020/03/fillu-1.jpg
END:VEVENT
BEGIN:VEVENT
DTSTART;VALUE=DATE:20200220
DTEND;VALUE=DATE:20200223
DTSTAMP:20260423T213754
CREATED:20200307T195018Z
LAST-MODIFIED:20200311T140843Z
UID:170-1582156800-1582415999@chloeallisonmezzo.com
SUMMARY:Rossini: La Cenerentola
DESCRIPTION:Cambridge University Opera Society \n\nLa Cenerentola – Chloë Allison\nDon Ramiro – Tristan Stocks\nClorinda – Sophie Ellis (Thursday/Matinée) // Anna-Luise Wagner (Friday/Saturday)\nTisbe – Rachel Coombs (Thursday/Matinée) // Anita Monserrat (Friday/Saturday)\nDandini – Louis Wilson\nDon Magnifico – Tom Butler\nAlidoro – Josh Geddes \nDirector – Madeleine Trépanier\nMusical Director – Luke Fitzgerald
URL:https://chloeallisonmezzo.com/event/rossini-la-cenerentola/
LOCATION:West Road Concert Hall\, West Road\, Cambridge\, CB3 9DP
CATEGORIES:Opera
ATTACH;FMTTYPE=image/jpeg:https://chloeallisonmezzo.com/wp-content/uploads/2020/03/poster.jpg
END:VEVENT
BEGIN:VEVENT
DTSTART;TZID=Europe/London:20200126T203000
DTEND;TZID=Europe/London:20200126T203000
DTSTAMP:20260423T213754
CREATED:20200309T162527Z
LAST-MODIFIED:20220404T172823Z
UID:559-1580070600-1580070600@chloeallisonmezzo.com
SUMMARY:Fillu at the Minerva Festival
DESCRIPTION:Green Opera presents Fillu \nChloë Allison (Eugenie Schumann)\nAnna-Luise Wagner (Marie Fillunger)\nHenry Websdale (Piano)\nEleanor Burke (Director) \nAs part of the Minerva Festival\, celebrating the work of female and non-binary creatives
URL:https://chloeallisonmezzo.com/event/fillu-at-the-minerva-festival/
LOCATION:Selwyn College\, Grange Road\, Cambridge\, CB39DQ\, United Kingdom
CATEGORIES:Liederabend,Opera
ATTACH;FMTTYPE=image/jpeg:https://chloeallisonmezzo.com/wp-content/uploads/2020/03/fillu-1.jpg
END:VEVENT
BEGIN:VEVENT
DTSTART;VALUE=DATE:20191210
DTEND;VALUE=DATE:20191211
DTSTAMP:20260423T213754
CREATED:20200307T201007Z
LAST-MODIFIED:20200310T131801Z
UID:180-1575936000-1576022399@chloeallisonmezzo.com
SUMMARY:London Song Festival British Art Song Competition Final
DESCRIPTION:Chloë Allison and Adam McDonagh perform songs by Hamilton Harty and Ned Rorem in a masterclass with Roderick Williams at the 1901 Arts Club.
URL:https://chloeallisonmezzo.com/event/london-song-festival-british-art-song-competition-final/
LOCATION:1901 Arts Club\, 7 Exton Street\, Waterloo\, SE1 8UE\, United Kingdom
CATEGORIES:Recital
END:VEVENT
BEGIN:VEVENT
DTSTART;TZID=Europe/London:20190516T200000
DTEND;TZID=Europe/London:20190516T200000
DTSTAMP:20260423T213754
CREATED:20200307T201442Z
LAST-MODIFIED:20200311T140720Z
UID:190-1558036800-1558036800@chloeallisonmezzo.com
SUMMARY:Wagner: Wesendonck Lieder
DESCRIPTION:Cambridge Univerisity Symphony Orchestra present a program of Beethoven and Mendelssohn. As winner of their concerto competition\, Chloë Allison joins them to perform Wagner’s Wesendonck Lieder. \nBeethoven: Egmont Overture\nWagner: Wesendonck Lieder\nMendelssohn: Symphony No. 4 \nChloë Allison (mezzo-soprano)\nCambridge University Symphony Orchestra\nNaoki Toyomura & Simon Fraser (conductors)
URL:https://chloeallisonmezzo.com/event/wagner-wesendonck-lieder/
LOCATION:West Road Concert Hall\, West Road\, Cambridge\, CB3 9DP
CATEGORIES:Concert
ATTACH;FMTTYPE=image/jpeg:https://chloeallisonmezzo.com/wp-content/uploads/2020/03/CUSO.jpg
END:VEVENT
BEGIN:VEVENT
DTSTART;TZID=Europe/London:20190428T203000
DTEND;TZID=Europe/London:20190428T203000
DTSTAMP:20260423T213754
CREATED:20200307T211826Z
LAST-MODIFIED:20200308T104956Z
UID:203-1556483400-1556483400@chloeallisonmezzo.com
SUMMARY:Song Recital
DESCRIPTION:Fauré – Cinq Mélodies de Venise\nPauline Viardot – Spanish Songs\nMahler – Rückert Lieder \nChloë Allison (mezzo-soprano)\nSarah MacDonald (piano)\nSelwyn College Music Society
URL:https://chloeallisonmezzo.com/event/song-recital/
LOCATION:Selwyn College\, Grange Road\, Cambridge\, CB39DQ\, United Kingdom
CATEGORIES:Recital
END:VEVENT
BEGIN:VEVENT
DTSTART;TZID=Europe/London:20190313T200000
DTEND;TZID=Europe/London:20190313T200000
DTSTAMP:20260423T213754
CREATED:20200307T212450Z
LAST-MODIFIED:20200311T140629Z
UID:209-1552507200-1552507200@chloeallisonmezzo.com
SUMMARY:Mahler: Das Lied von der Erde
DESCRIPTION:Helena Moore (soprano)\nDominic Edwards (baritone)\nChloë Allison (mezzo-soprano) \nThe Cambridge Mahler Orchestra \nEdward Liebrecht (Conducts)
URL:https://chloeallisonmezzo.com/event/mahler-das-lied-von-der-erde/
LOCATION:Trinity College Chapel\, Cambridge\, CB2 1TQ\, United Kingdom
CATEGORIES:Concert
ATTACH;FMTTYPE=image/jpeg:https://chloeallisonmezzo.com/wp-content/uploads/2020/03/das-abschied.jpg
END:VEVENT
BEGIN:VEVENT
DTSTART;TZID=Europe/London:20190306T193000
DTEND;TZID=Europe/London:20190306T193000
DTSTAMP:20260423T213754
CREATED:20200307T213120Z
LAST-MODIFIED:20200308T105013Z
UID:216-1551900600-1551900600@chloeallisonmezzo.com
SUMMARY:Live\, Love and the Beyond
DESCRIPTION:Brahms Zwei Gesänge\, op.91\nBridge Three Songs for mezzo-soprano and viola\nWagner Wesendonck Lieder \nChloë Allison (mezzo-soprano)\nKevin Weaver (viola)\nRichard Saxel (piano)
URL:https://chloeallisonmezzo.com/event/live-love-and-the-beyond/
LOCATION:Cranleigh School\, Horseshoe Lane\, Cranleigh\, Surrey\, GU68QQ
CATEGORIES:Recital
ATTACH;FMTTYPE=image/jpeg:https://chloeallisonmezzo.com/wp-content/uploads/2020/03/cranleigh-recital.jpg
END:VEVENT
BEGIN:VEVENT
DTSTART;VALUE=DATE:20190220
DTEND;VALUE=DATE:20190223
DTSTAMP:20260423T213754
CREATED:20200307T194241Z
LAST-MODIFIED:20200310T131347Z
UID:161-1550620800-1550879999@chloeallisonmezzo.com
SUMMARY:Bizet: Carmen
DESCRIPTION:The well-known opera composed by George Bizet is performed in West Road Concert Hall by Cambridge University Opera Society. \nCarmen – Chloë Allison\nDon José – Maximilian Lawrie\nMicaëla – Anna-Luise Wagner\nEscamillo – Louis Wilson\nFrasquita – Tiffany Charnley\nMercédès – Constance Ayrton\nle Remendado – Andrei Smid\nle Dancaïre – Jamie Conway\nMoralès – Luke Thomas\nZuñiga – James Ward \nOliver Cope – Musical Director\nEleanor Burke – Director
URL:https://chloeallisonmezzo.com/event/carmen/
LOCATION:West Road Concert Hall\, West Road\, Cambridge\, CB3 9DP
CATEGORIES:Opera
ATTACH;FMTTYPE=image/png:https://chloeallisonmezzo.com/wp-content/uploads/2020/03/Picture1.png
END:VEVENT
BEGIN:VEVENT
DTSTART;VALUE=DATE:20190207
DTEND;VALUE=DATE:20190209
DTSTAMP:20260423T213754
CREATED:20200307T214143Z
LAST-MODIFIED:20200311T140438Z
UID:221-1549497600-1549670399@chloeallisonmezzo.com
SUMMARY:Puccini: Suor Angelica
DESCRIPTION:Suor Angelica – Parvathi Subbiah\nLa Zia Principessa – Chloë Allison\nSuor Genovieffa – Lottie Greenhow\nLa Suora Zelatrice – Karolina Csathy\nLa Suora Infermiera – Anna Cooper\nLa Maestra delle Novizie – Rachel Coombs\nLa Badessa – Megan Smania\n \nThe Empyrean Ensemble\nMusical Director – Edward Reeve \nDirector – Anna Moody  \nTrinity College Chapel \n  \n7-8th of February 2019\nTrinity Chapel
URL:https://chloeallisonmezzo.com/event/puccini-suor-angelica/
LOCATION:Trinity College Chapel\, Cambridge\, CB2 1TQ\, United Kingdom
CATEGORIES:Opera
ATTACH;FMTTYPE=image/jpeg:https://chloeallisonmezzo.com/wp-content/uploads/2020/03/suor-angelica.jpg
END:VEVENT
BEGIN:VEVENT
DTSTART;TZID=Europe/London:20190128T200000
DTEND;TZID=Europe/London:20190128T200000
DTSTAMP:20260423T213754
CREATED:20200307T214659Z
LAST-MODIFIED:20200308T105045Z
UID:233-1548705600-1548705600@chloeallisonmezzo.com
SUMMARY:Life\, Love and the Beyond
DESCRIPTION:Brahms Zwei Gesänge\, op.91\nBridge Three Songs for mezzo-soprano and viola\nWagner Wesendonck Lieder \nChloë Allison (mezzo-soprano)\nAlex Gunasekara (viola)\nAdam McDonagh (piano) \nTrinity College Music Society
URL:https://chloeallisonmezzo.com/event/life-love-and-the-beyond/
LOCATION:Trinity College\, Cambridge\, CB2 1TQ\, United Kingdom
CATEGORIES:Recital
END:VEVENT
BEGIN:VEVENT
DTSTART;TZID=Europe/London:20190127T203000
DTEND;TZID=Europe/London:20190127T203000
DTSTAMP:20260423T213754
CREATED:20200307T215048Z
LAST-MODIFIED:20200308T105055Z
UID:249-1548621000-1548621000@chloeallisonmezzo.com
SUMMARY:De Profundis: Cambridge Female Composers Festival Season Launch
DESCRIPTION:Lili Boulanger: Vieille prière bouddhique\nJudith Weir: Illuminare\, Jerusalem\nCecilia McDowall: The Lord is Good\nJudith Bingham: The Clouded Heaven\nHannah Kendall: Nativity\nLili Boulanger: Psalm CXXX “Du fond de l’abîme” \nChloë Allison (Mezzo-soprano)\nMark Hounsell (Tenor)\nSarah MacDonald (Director)
URL:https://chloeallisonmezzo.com/event/de-profundis-cambridge-female-composers-festival-season-launch/
LOCATION:Selwyn College\, Grange Road\, Cambridge\, CB39DQ\, United Kingdom
CATEGORIES:Concert
ATTACH;FMTTYPE=image/jpeg:https://chloeallisonmezzo.com/wp-content/uploads/2020/03/de-profundis.jpg
END:VEVENT
BEGIN:VEVENT
DTSTART;VALUE=DATE:20181102
DTEND;VALUE=DATE:20181104
DTSTAMP:20260423T213754
CREATED:20200307T215654Z
LAST-MODIFIED:20200311T140254Z
UID:252-1541116800-1541289599@chloeallisonmezzo.com
SUMMARY:Monteverdi: L'incoronazione di Poppea
DESCRIPTION:Poppea – Lottie Greenhow\nNero – Alice Webster \nOttavia – Chloë Allison\nSeneca – Louis Wilson\nOttone – Hugh Cutting\n\nArnalta – Fiametta Fuller Gale\nNutrice – Michael Hong \n\nLucano – Henry Websdale\nLiberto – Henry Laird\nFortuna/Drusilla – Beatrix Swanson Scott \n\nVirtu/Pallade – Hannah Littleton\nAmore – Anna Wagner \n\n\n \nOperaZone\nMusical Director – Luke Fitzgerald\nDirector – Sasha Amaya
URL:https://chloeallisonmezzo.com/event/monteverdi-lincoronazione-di-poppea/
LOCATION:Trinity College Chapel\, Cambridge\, CB2 1TQ\, United Kingdom
CATEGORIES:Opera
ATTACH;FMTTYPE=image/jpeg:https://chloeallisonmezzo.com/wp-content/uploads/2020/03/Poppea.jpg
END:VEVENT
BEGIN:VEVENT
DTSTART;TZID=Europe/London:20181023T130000
DTEND;TZID=Europe/London:20181023T130000
DTSTAMP:20260423T213754
CREATED:20200307T220215Z
LAST-MODIFIED:20200308T105116Z
UID:257-1540299600-1540299600@chloeallisonmezzo.com
SUMMARY:Stravinsky: Les Noces
DESCRIPTION:Cambridge University Chamber Choir\nCambridge University Percussion Ensemble \nPavathi Subbiah (soprano)\nChloë Allison (mezzo-soprano)\nHenry Websdale (tenor)\nJames Ward (bass) \n\nToby Hession and Peter Asimov (Piano)\nNaomi Woo (Director)\nCambridge University Lunch Time Concert Series
URL:https://chloeallisonmezzo.com/event/stravinsky-les-noces/
LOCATION:West Road Concert Hall\, West Road\, Cambridge\, CB3 9DP
CATEGORIES:Concert
END:VEVENT
BEGIN:VEVENT
DTSTART;TZID=Europe/London:20180921T200000
DTEND;TZID=Europe/London:20180921T200000
DTSTAMP:20260423T213754
CREATED:20200307T220609Z
LAST-MODIFIED:20200311T140152Z
UID:261-1537560000-1537560000@chloeallisonmezzo.com
SUMMARY:Monteverdi: Il Combattimento di Tancredi e Clorinda
DESCRIPTION:Testo – Chloë Allison\nClorinda – Anna-Luise Wagner \nTancredi – Adrian Horsewood \nTick tock Performance\nMusical Director – Naomi Woo\nDirector – Sasha Amaya \nAs part of Intersections between Music and Theatre in Seicento Italy \nSupported by the Italianist\, Music and Letter and The Royal Musical Association
URL:https://chloeallisonmezzo.com/event/monteverdi-il-combattimento-di-tancredi-e-clorinda/
LOCATION:Clare College Chapel\, Cambridge\, CB2 1TL\, United Kingdom
CATEGORIES:Opera
ATTACH;FMTTYPE=image/png:https://chloeallisonmezzo.com/wp-content/uploads/2020/03/clorinda.png
END:VEVENT
END:VCALENDAR